
BEGIN:VCALENDAR
VERSION:2.0
PRODID:-//WWNLIVE - ECPv4.0.6//NONSGML v1.0//EN
CALSCALE:GREGORIAN
METHOD:PUBLISH
X-WR-CALNAME:WWNLIVE
X-ORIGINAL-URL:https://wwnlive.com
X-WR-CALDESC:Events for WWNLIVE
BEGIN:VEVENT
DTSTART;TZID="America/New_York":20180217T180000
DTEND;TZID="America/New_York":20180217T210000
DTSTAMP:20260422T203504
CREATED:20180115T024215
LAST-MODIFIED:20180216T191203
UID:88168-1518890400-1518901200@wwnlive.com
SUMMARY:EVOLVE 100 – Feb. 17th – Queens\, NY
DESCRIPTION:WWN & EVOLVE Wrestling present\nEVOLVE 100\nSaturday\, February 17th\, 2018\nBelltime - 6:00 PM EST\nLa Boom\n56-15 Northern Blvd\nWoodside\, NY\n\nTickets are on sale at here or by calling 877.4.FLY.TIX (877.435.9849)!\n\nEVOLVE Championship Match\nZack Sabre Jr. defends vs. Austin Theory with Priscilla Kelly\n\nWWN Championship Match\nKeith Lee defends vs. AR Fox\n\nEVOLVE Tag Team Championship Match\nChris Dickinson & Jaka defend vs. The End\n\nThe Future Is Now Match #1\nMatt Riddle vs. James Drake\n\nThe Future Is Now Match #2\nTracy Williams with Stokely Hathaway vs. Anthony Henry\n\nThe Future Is Now Match #3\nFred Yehi vs. Dom Garrini\n\nPrelim Match - Triple Threat\nDarby Allin vs. Jason Kincaid vs. Jarek 1:20 with Candy Cartwright\n\n\nMany of the stars of EVOLVE will be available for pics & autographs before and after the event!\n\n\n
URL:https://wwnlive.com/event/evolve-100-feb-17th-queens-ny/
CATEGORIES:EVOLVE Wrestling
ATTACH;FMTTYPE=image/jpeg:https://wwnlive.com/wp-content/uploads/2018/01/EV100_022018_EVENT_POSTER-LQ.jpg
END:VEVENT
END:VCALENDAR