
BEGIN:VCALENDAR
VERSION:2.0
PRODID:-//WWNLIVE - ECPv4.0.6//NONSGML v1.0//EN
CALSCALE:GREGORIAN
METHOD:PUBLISH
X-WR-CALNAME:WWNLIVE
X-ORIGINAL-URL:https://wwnlive.com
X-WR-CALDESC:Events for WWNLIVE
BEGIN:VEVENT
DTSTART;TZID="America/New_York":20191011T200000
DTEND;TZID="America/New_York":20191011T230000
DTSTAMP:20260420T182105
CREATED:20190901T183108
LAST-MODIFIED:20191010T001238
UID:100282-1570824000-1570834800@wwnlive.com
SUMMARY:EVOLVE 137 – October 11th – Atlanta\, GA
DESCRIPTION:WWN & EVOLVE Wrestling present\nEVOLVE 137\nFriday\, October 11th\, 2019\nBelltime - 8:00 PM EDT\nThe Kroc Center of Atlanta\n967 Dewey St. SW\nAtlanta\, GA 30310\n\n\nTickets on sale at www.Etix.com or by calling 1-800-514-3849!\n\nWatch the Live Stream and Video-on-Demand at:\nwww.WWNLive.com\nwww.ClubWWN.com\nWWN Roku App\nClub WWN Amazon Fire TV App\nClub WWN Apple TV App\nClub WWN Android TV App\nClub WWN Facebook Page\n\nNXT Superstars Available For Meet & Greets:\n-Tommaso Ciampa\n-Johnny Gargano\n-Cameron Grimes\n-Kassius Ohno\n-Babatunde\n-Arturo Ruas\n-EVOLVE Champion Austin Theory\n\nSpecial Meet & Greet with NXT GM William Regal\n\nCheck the WWNLive.com Shop for Meet & Greet pricing. You must have a ticket to the event to take part in the Meet & Greets. The Meet & Greets will take place when doors open and after the event. You are allowed to get any item autographed that you want. You will get a free 8x10 with an autograph purchase.\n\nA Special Appearance by NXT GM William Regal!\n\nEVOLVE Championship Match\nAustin Theory defends vs. EVOLVE Tag Team Champion AR Fox with Ayla & The Skulk\n\nLights Out Match\nKassius Ohno vs. Josh Briggs\n\nBonus Main Event - Only In EVOLVE\nCameron Grimes vs. Curt Stallion\n\nSHINE NOVA Championship Match\nShotzi Blackheart defends vs. Aja Perera\n\nGrudge Match\nBabatunde vs. Eddie Kingston\n\nOnly In EVOLVE\nArturo Ruas vs. JD Drake\n\nSpecial Attraction Match\nAnthony Henry vs. Slim J\n\nSpecial Challenge Match\nEVOLVE Tag Team Champion Leon Ruff vs. Sean Maluta\n\nTag Team Attraction\nAdrian Alanis & Liam Gray of The Skulk vs. Harlem Bravado & Anthony Greene with Brandi Lauren\n\nPlus more to be announced with Anthony Gutierrez\, Colby Corino and others!!!\n\n \n\n \n\n \n\n\n\n 
URL:https://wwnlive.com/event/evolve-137-october-11th-atlanta-ga/
CATEGORIES:EVOLVE Wrestling
ATTACH;FMTTYPE=image/jpeg:https://wwnlive.com/wp-content/uploads/2019/09/BANNER-485X359-NXT_EVENT-EV137.jpg
END:VEVENT
END:VCALENDAR