
BEGIN:VCALENDAR
VERSION:2.0
PRODID:-//WWNLIVE - ECPv4.0.6//NONSGML v1.0//EN
CALSCALE:GREGORIAN
METHOD:PUBLISH
X-WR-CALNAME:WWNLIVE
X-ORIGINAL-URL:https://wwnlive.com
X-WR-CALDESC:Events for WWNLIVE
BEGIN:VEVENT
DTSTART;TZID="America/New_York":20180202T210000
DTEND;TZID="America/New_York":20180202T235500
DTSTAMP:20260423T000544
CREATED:20180105T201257
LAST-MODIFIED:20180129T163151
UID:87854-1517605200-1517615700@wwnlive.com
SUMMARY:FIP Everything Burns 2018 – Feb. 2nd – Ybor City\, FL
DESCRIPTION:WWN & Full Impact Pro present\nFIP Everything Burns 2018\nFriday\, February 2nd\, 2018\nBell Time - 9:00 PM EST\nThe Orpheum\n1915 E. 7th Avenue\nYbor City\, FL\n\nTickets are on sale here or by calling 877.4.FLY.TIX (877.435.9849)!\n\nWatch the Live Stream and Video-on-Demand at www.WWNLive.com\, the WWN Roku App and FITE TV!\n\nFIP World Heavyweight Championship Match\nAustin Theory w/ Priscilla Kelly defends vs. Martin Stone\n\nFIP Florida Heritage Championship Match\nJon Davis defends vs. Darby Allin\n\nFIP Tag Team Championship Match\nThe Hooligans of Devin & Mason Cutter defend vs. The End of Odinson & Parrow w/ Drennen\n\nSHINE Nova Championship Match\nPriscilla Kelly defends vs. ACR\n\nWelcome To The Neighborhood! Falls Count Anywhere!\nSnoop Strikes vs. Saieve al Sabah vs. Blanco Loco vs. Darius Lockhart\n\nBattle of The Bulls!\nRhett Giddens vs. Alex Rudolph\n\nPlus More Featuring:\n- Francisco Ciatso\n- Teddy Stigma\n- Effy\n- Graham Bell\n\n \n\n
URL:https://wwnlive.com/event/fip-everything-burns-2018-feb-2nd-ybor-city-fl/
CATEGORIES:Full Impact Pro Wrestling (FIP)
ATTACH;FMTTYPE=image/jpeg:https://wwnlive.com/wp-content/uploads/2018/01/FIP_02022018_EVENT_POSTER-LQ.jpg
END:VEVENT
END:VCALENDAR