
BEGIN:VCALENDAR
VERSION:2.0
PRODID:-//WWNLIVE - ECPv4.0.6//NONSGML v1.0//EN
CALSCALE:GREGORIAN
METHOD:PUBLISH
X-WR-CALNAME:WWNLIVE
X-ORIGINAL-URL:https://wwnlive.com
X-WR-CALDESC:Events for WWNLIVE
BEGIN:VEVENT
DTSTART;TZID="America/New_York":20190818T180000
DTEND;TZID="America/New_York":20190818T220000
DTSTAMP:20260423T235637
CREATED:20190727T183126
LAST-MODIFIED:20190813T233314
UID:99760-1566151200-1566165600@wwnlive.com
SUMMARY:Free WWN Do Or Die Showcase – August 18th – Port Richey\, FL
DESCRIPTION:\n\nWorld Wrestling Network presents\n\n\nFREE WWN Do Or Die Showcase\n\n\nSunday\, August 18\, 2019\n\n\nDoors Open - 6:00 PM EDT\n\n\nBell Time - 7:00 PM EDT\n\n\nGulf View Event Center\n\n\n9409 US Hwy 19\n\n\nPort Richey\, FL 34668\n\n\n \n\n\nAdmission is FREE!\n\n\nSeating is limited!\n\n\nFirst come\, first serve!\n\n\n \n\n\nWatch the Live Stream and Video-on-Demand at:\n\n\nwww.WWNLive.com\n\n\nwww.ClubWWN.com\n\n\nWWN Roku App\n\n\nClub WWN Amazon Fire TV App\n\n\nClub WWN Apple TV App\n\n\nClub WWN Android TV App\n\n\nClub WWN Facebook Page\n\n\n \n\n\nFeaturing the next generation of talent in the sport of professional wrestling competing to join the World Wrestling Network! Watch participants from the August 2019 WWN Recruitment Camp put it all on the line as it is Do or Die!\n\n\n\n\n\n
URL:https://wwnlive.com/event/free-wwn-die-showcase-august-18th-port-richey-fl/
CATEGORIES:WWN Live!
ATTACH;FMTTYPE=image/jpeg:https://wwnlive.com/wp-content/uploads/2019/07/BANNER-485X359-NXT_EVENT-WWN_DO_or_DIE.jpg
END:VEVENT
END:VCALENDAR