
BEGIN:VCALENDAR
VERSION:2.0
PRODID:-//WWNLIVE - ECPv4.0.6//NONSGML v1.0//EN
CALSCALE:GREGORIAN
METHOD:PUBLISH
X-WR-CALNAME:WWNLIVE
X-ORIGINAL-URL:https://wwnlive.com
X-WR-CALDESC:Events for WWNLIVE
BEGIN:VEVENT
DTSTART;TZID="America/New_York":20190824T160000
DTEND;TZID="America/New_York":20190824T190000
DTSTAMP:20260423T220944
CREATED:20190419T004922
LAST-MODIFIED:20190810T210457
UID:97815-1566662400-1566673200@wwnlive.com
SUMMARY:SHINE 60 – August 24th – Livonia\, MI
DESCRIPTION:WWN & SHINE Wrestling present\nSHINE 60: The 7th Anniversary Show\nSaturday\, August 24th\, 2019\nBelltime - 4:00 PM EDT\nMonaghan Knights Of Columbus Hall\n19801 Farmington Rd.\nLivonia\, MI 48152\n\n\nTickets on sale at www.Etix.com or by calling 1-800-514-3849!\n\nPart of a double header with EVOLVE Wrestling (separate ticket required)!\n\nWatch the Live Stream and Video-on-Demand at:\nwww.WWNLive.com\nwww.ClubWWN.com\nWWN Roku App\nClub WWN Amazon Fire TV App\nClub WWN Apple TV App\nClub WWN Android TV App\nClub WWN Facebook Page\nFITE TV\n\nSHINE Championship Match - Triple Threat Rules!\nAllysin Kay defends vs. Mercedes Martinez vs. Ivelisse\n\nSHINE Tag Team Championship Match\nRainbow Bright of Luscious Latasha & Gabby Gilbert defend vs. Team Sea Stars of Ashley Vox & Delmi Exo\n\nSHINE Nova Championship Match\nShotzi Blackheart defends vs. Natalia Markova w/ Brandi Lauren\n\nTag Team Showcase\nTeam AAA of Aja Perera & Aerial Monroe w/ Ayla vs. BTY of Marti Belle & Jayme Jameson\n\nBrandi Lauren vs. Avery Taylor\n\n"Double D" Rose vs. Holidead\n\nLeah Vaughan vs. Lindsay Snow\n\n
URL:https://wwnlive.com/event/shine-60-aug-24th-livonia-mi/
CATEGORIES:SHINE Wrestling
ATTACH;FMTTYPE=image/jpeg:https://wwnlive.com/wp-content/uploads/2016/02/BANNER-485X359-NXT_EVENT-SH60.jpg
END:VEVENT
END:VCALENDAR