
BEGIN:VCALENDAR
VERSION:2.0
PRODID:-//WWNLIVE - ECPv4.0.6//NONSGML v1.0//EN
CALSCALE:GREGORIAN
METHOD:PUBLISH
X-WR-CALNAME:WWNLIVE
X-ORIGINAL-URL:https://wwnlive.com
X-WR-CALDESC:Events for WWNLIVE
BEGIN:VEVENT
DTSTART;TZID="America/New_York":20190921T150000
DTEND;TZID="America/New_York":20190921T170000
DTSTAMP:20260420T181040
CREATED:20190703T022902
LAST-MODIFIED:20190917T051748
UID:99247-1569078000-1569085200@wwnlive.com
SUMMARY:SHINE 61 – September 21st – Queens\, NY
DESCRIPTION:WWN & SHINE Wrestling present\nSHINE 61\nSaturday\, September 21st\, 2019\nBelltime - 3:00 PM EDT\nLa Boom\n56-15 Northern Blvd\nWoodside\, NY 11377\n\nTickets on sale at www.Etix.com or by calling 1-800-514-3849!\n\nPart of a double header with EVOLVE Wrestling (separate ticket required)!\n\nSHINE Stars will be available for meet & greets before and after the event. Pricing depends on the individual wrestler.\n\nWatch the Live Stream and Video-on-Demand at:\nwww.WWNLive.com\nwww.ClubWWN.com\nWWN Roku App\nClub WWN Amazon Fire TV App\nClub WWN Apple TV App\nClub WWN Android TV App\nClub WWN Facebook Page\nFITE TV\n\nSHINE Championship Match\nAllysin Kay defends vs. SHINE Nova Champion Shotzi Blackheart\n\nLas Sicarias Collide!\nMercedes Martinez vs. Ivelisse\n\nSHINE Tag Team Championship Match - No DQ - No Count Out - NYC Street Fight!\nRainbow Bright of Luscious Latasha & Gabby Gilbert defend vs. Triple Aye of Aja Perera & Big Swole w/ Ayla\n\nBrandi Lauren vs. Alex Gracia\n\nNatalia Markova vs. Kris Statlander\n\nBTY of Marti Belle & Jayme Jameson vs. Lindsay Snow & Jenna\n\nThe Cutie Pie Club of Candy Cartwright & Double D'Rose vs. Avery Taylor & Brittany Blake\n\nTina San Antonio vs. Notorious Nadi\n\n
URL:https://wwnlive.com/event/shine-61-september-21st-queens-ny/
CATEGORIES:SHINE Wrestling
ATTACH;FMTTYPE=image/jpeg:https://wwnlive.com/wp-content/uploads/2019/07/BANNER-485X359-NXT_EVENT-SH61.jpg
END:VEVENT
END:VCALENDAR